BEGIN:VCALENDAR
VERSION:2.0
PRODID:-//Mo Money Entertainment - ECPv6.15.20//NONSGML v1.0//EN
CALSCALE:GREGORIAN
METHOD:PUBLISH
X-WR-CALNAME:Mo Money Entertainment
X-ORIGINAL-URL:https://iwantmomoney.com
X-WR-CALDESC:Events for Mo Money Entertainment
REFRESH-INTERVAL;VALUE=DURATION:PT1H
X-Robots-Tag:noindex
X-PUBLISHED-TTL:PT1H
BEGIN:VTIMEZONE
TZID:UTC
BEGIN:STANDARD
TZOFFSETFROM:+0000
TZOFFSETTO:+0000
TZNAME:UTC
DTSTART:20240101T080000
END:STANDARD
END:VTIMEZONE
BEGIN:VEVENT
DTSTART;TZID=UTC:20250928T040000
DTEND;TZID=UTC:20250928T090000
DTSTAMP:20260419T130918
CREATED:20250819T032028Z
LAST-MODIFIED:20250819T033753Z
UID:819-1759032000-1759050000@iwantmomoney.com
SUMMARY:Website Lauch Party
DESCRIPTION:We proudly announce the official web launch party for Mo Money Entertainment!
URL:https://iwantmomoney.com/event/website-lauch-party/
LOCATION:UTOPIA BISTRO\, 5047 West Pico Blvd\, Los Angeles\, CA\, 90019\, United States
CATEGORIES:Party
ATTACH;FMTTYPE=image/png:https://iwantmomoney.com/wp-content/uploads/2025/05/mmelg21alt.png
ORGANIZER;CN="Mo Money":MAILTO:moetog360@gmail.com
END:VEVENT
END:VCALENDAR