BEGIN:VCALENDAR
VERSION:2.0
PRODID:-//Mo Money Entertainment - ECPv6.15.20//NONSGML v1.0//EN
CALSCALE:GREGORIAN
METHOD:PUBLISH
X-ORIGINAL-URL:https://iwantmomoney.com
X-WR-CALDESC:Events for Mo Money Entertainment
REFRESH-INTERVAL;VALUE=DURATION:PT1H
X-Robots-Tag:noindex
X-PUBLISHED-TTL:PT1H
BEGIN:VTIMEZONE
TZID:UTC
BEGIN:STANDARD
TZOFFSETFROM:+0000
TZOFFSETTO:+0000
TZNAME:UTC
DTSTART:20240101T080000
END:STANDARD
END:VTIMEZONE
BEGIN:VEVENT
DTSTART;TZID=UTC:20251005T030000
DTEND;TZID=UTC:20251005T053000
DTSTAMP:20260419T132928
CREATED:20250819T032826Z
LAST-MODIFIED:20250819T032826Z
UID:822-1759633200-1759642200@iwantmomoney.com
SUMMARY:MME presents Lawerence Owens and Friends
DESCRIPTION:Mo Money Entertainment proudly welcomes from Philadelphia\, the very funny\, LAWERENCE OWENS! Prepare for laughs galore.
URL:https://iwantmomoney.com/event/mme-presents-lawerence-owens-and-friends/
LOCATION:UTOPIA BISTRO\, 5047 West Pico Blvd\, Los Angeles\, CA\, 90019\, United States
CATEGORIES:Comedy
ATTACH;FMTTYPE=image/png:https://iwantmomoney.com/wp-content/uploads/2025/05/mmelg21alt.png
ORGANIZER;CN="Mo Money":MAILTO:moetog360@gmail.com
END:VEVENT
BEGIN:VEVENT
DTSTART;TZID=UTC:20250926T040000
DTEND;TZID=UTC:20250926T090000
DTSTAMP:20260419T132928
CREATED:20250819T033152Z
LAST-MODIFIED:20250819T033811Z
UID:825-1758859200-1758877200@iwantmomoney.com
SUMMARY:MME Comedy Night
DESCRIPTION:Next comedy show.. details coming soon.
URL:https://iwantmomoney.com/event/mme-comedy-night/
LOCATION:UTOPIA BISTRO\, 5047 West Pico Blvd\, Los Angeles\, CA\, 90019\, United States
CATEGORIES:Comedy
ATTACH;FMTTYPE=image/png:https://iwantmomoney.com/wp-content/uploads/2025/05/mmelg21alt.png
ORGANIZER;CN="Mo Money":MAILTO:moetog360@gmail.com
END:VEVENT
END:VCALENDAR